Workbook

Sheet 3-7 лет
A1: Учреждение | B1: МБДОУ д/с "Совёнок" | E1: 3-7 лет
A2: День третий
A3: Прием пищи/Наименование блюда | B3: Выход | C3: Пищевое вещество (г) | F3: Энергетическая ценность (ккал) | G3: Витамин С | H3: № рецептуры
C4: Белки | D4: Жиры | E4: Углеводы
A5: Завтрак
A6: Какао с молоком свежим | B6: 180 | C6: 3.67 | D6: 3.19 | E6: 15.82 | F6: 107 | G6: 1.43 | H6: 397_2011
A7: Суп молочный (макароны) | B7: 250 | C7: 7.14 | D7: 6.57 | E7: 21.56 | F7: 178.92 | G7: 1.14 | H7: 180_2012
A8: Бутерброд с маслом | B8: ='[1]3-7 лет'!B8 -> 30 | C8: ='[1]3-7 лет'!C8 -> 2.3 | D8: ='[1]3-7 лет'!D8 -> 4.36 | E8: ='[1]3-7 лет'!E8 -> 14.62 | F8: ='[1]3-7 лет'!F8 -> 108 | G8: ='[1]3-7 лет'!G8 -> 0 | H8: ='[1]3-7 лет'!H8 -> 1_2011
A9: Второй завтрак
A10: Груша | B10: 100 | C10: 0.4 | D10: 0.3 | E10: 10.3 | F10: 46 | G10: 5 | H10: 368_2011
A11: Обед
A12: Суп гороховый | B12: 200 | C12: 6.68 | D12: 4.6 | E12: 16.2 | F12: 133.14 | G12: 4.76 | H12: НИИ гигиены
A13: Гречка отварная | B13: 150 | C13: 8.3 | D13: 6.3 | E13: 36 | F13: 233.7 | G13: 0 | H13: =$H$12 -> НИИ гигиены
A14: Филе куриное в соусе | B14: 80 | C14: 10.9 | D14: 9.5 | E14: 6.7 | F14: 156.1 | G14: 1.05 | H14: НИИ гигиены
A15: Салат из помидоров с луком | B15: 100 | C15: 1.13 | D15: 6.19 | E15: 4.72 | F15: 79.1 | G15: 20.42 | H15: 23_2011
A16: Напиток из клюквы | B16: 180 | C16: 0.19 | D16: 0.04 | E16: 16.21 | F16: 65.93 | G16: 15.12 | H16: 123_2007
A17: Хлеб заварной | B17: 50 | C17: 3.06 | D17: 9.43 | E17: 18.28 | F17: 170 | G17: 0 | H17: 1_2011/
A18: Хлеб пшеничный | B18: 30 | C18: 1.84 | D18: 4.25 | E18: 10.96 | F18: 102 | G18: 0 | H18: 1_2011/
A19: Полдник
A20: Снежок | B20: 180 | C20: 4.86 | D20: 4.5 | E20: 19.44 | F20: 142.2 | G20: 1.62 | H20: 401_2011
A21: Булочка с маком | B21: 50 | C21: 3.9 | D21: 3.06 | E21: 26.93 | F21: 151 | G21: 0 | H21: 473_2012
A22: Ужин
A23: Омлет натуральный | B23: 155 | C23: 18.1 | D23: 30.8 | E23: 2.4 | F23: 268 | G23: 0.34 | H23: 216_2011
A24: Чай с лимоном | B24: 180 | C24: 0.04 | D24: 0 | E24: 12.13 | F24: 47 | G24: 2 | H24: 200_2004
A25: Хлеб пшеничный | B25: 30 | C25: 1.84 | D25: 4.25 | E25: 10.96 | F25: 102 | G25: 0 | H25: 1_2011/
A26: Итого за третий день: | C26: 50.72 | D26: 63.79 | E26: 272.89 | F26: 1921.49 | G26: 31.36

Sheet 1-3 года
A1: День третий
A2: Прием пищи/Наименование блюда | B2: Выход | C2: Пищевое вещество (г) | F2: Энергетическая ценность (ккал) | G2: Витамин С | H2: № рецептуры
C3: Белки | D3: Жиры | E3: Углеводы
A4: Завтрак
A5: ='3-7 лет'!A6 -> Какао с молоком свежим | B5: 150 | C5: 3.04 | D5: 2.65 | E5: 13.13 | F5: 88.81 | G5: 1.18 | H5: 397_2011
A6: ='3-7 лет'!A7 -> Суп молочный (макароны) | B6: 150 | C6: 4.3 | D6: 3.94 | E6: 12.94 | F6: 107.35 | G6: 0.68 | H6: 180_2012
A7: ='3-7 лет'!A8 -> Бутерброд с маслом | B7: ='[1]1-3 года'!B8 -> 20 | C7: ='[1]1-3 года'!C8 -> 1.54 | D7: ='[1]1-3 года'!D8 -> 3.46 | E7: ='[1]1-3 года'!E8 -> 9.75 | F7: ='[1]1-3 года'!F8 -> 78 | G7: ='[1]1-3 года'!G8 -> 0 | H7: ='[1]1-3 года'!H8 -> 1_2005
A8: Второй завтрак
A9: ='3-7 лет'!$A$10 -> Груша | B9: 100 | C9: 0.4 | D9: 0.3 | E9: 10.3 | F9: 46 | G9: 5 | H9: 368_2011
A10: Обед
A11: ='3-7 лет'!A12 -> Суп гороховый | B11: 200 | C11: 6.68 | D11: 4.6 | E11: 16.2 | F11: 133.14 | G11: 4.76 | H11: НИИ гигиены
A12: ='3-7 лет'!A13 -> Гречка отварная | B12: 120 | C12: 6.6 | D12: 5 | E12: 28.8 | F12: 187 | G12: 0 | H12: =$H$11 -> НИИ гигиены
A13: ='3-7 лет'!A14 -> Филе куриное в соусе | B13: 60 | C13: 8.2 | D13: 7.1 | E13: 5 | F13: 117.1 | G13: 0.79 | H13: НИИ гигиены
A14: ='3-7 лет'!A15 -> Салат из помидоров с луком | B14: 60 | C14: 0.68 | D14: 3.71 | E14: 2.83 | F14: 47.46 | G14: 12.25 | H14: 23_2011
A15: ='3-7 лет'!A16 -> Напиток из клюквы | B15: 150 | C15: 0.158 | D15: 0.033 | E15: 13.508 | F15: 54.942 | G15: 12.6 | H15: 123_2007
A16: ='3-7 лет'!A17 -> Хлеб заварной | B16: 40 | C16: 2.45 | D16: 7.54 | E16: 14.62 | F16: 136 | G16: 0 | H16: 1_2011/
A17: ='3-7 лет'!A18 -> Хлеб пшеничный | B17: 25 | C17: 1.53 | D17: 4.71 | E17: 9.14 | F17: 85 | G17: 0 | H17: 1_2011/
A18: Полдник
A19: ='3-7 лет'!A20 -> Снежок | B19: 150 | C19: 4.03 | D19: 3.74 | E19: 16.13 | F19: 118.02 | G19: 1.34 | H19: 401_2011
A20: ='3-7 лет'!A21 -> Булочка с маком | B20: ='3-7 лет'!B21 -> 50 | C20: ='3-7 лет'!C21 -> 3.9 | D20: ='3-7 лет'!D21 -> 3.06 | E20: ='3-7 лет'!E21 -> 26.93 | F20: ='3-7 лет'!F21 -> 151 | G20: ='3-7 лет'!G21 -> 0 | H20: ='3-7 лет'!H21 -> 473_2012
A21: Ужин
A22: ='3-7 лет'!A23 -> Омлет натуральный | B22: 130 | C22: 15.02 | D22: 25.56 | E22: 1.99 | F22: 222.44 | G22: 0.28 | H22: 216_2011
A23: ='3-7 лет'!A24 -> Чай с лимоном | B23: 150 | C23: 0.04 | D23: 0 | E23: 9.1 | F23: 35 | G23: 1.6 | H23: 200_2004
A24: ='3-7 лет'!A25 -> Хлеб пшеничный | B24: 25 | C24: 1.53 | D24: 4.71 | E24: 9.14 | F24: 85 | G24: 0 | H24: 1_2011/
A25: Итого за третий день: | C25: 41.01 | D25: 56 | E25: 231.37 | F25: 1601.28 | G25: 27.23
