Workbook

Sheet 3-7 лет
A1: Учреждение | B1: МБДОУ д/с "Совёнок" | E1: 3-7 лет
A2: День четвертый
A3: Прием пищи/Наименование блюда | B3: Выход | C3: Пищевое вещество (г) | F3: Энергетическая ценность (ккал) | G3: Витамин С | H3: № рецептуры
C4: Белки | D4: Жиры | E4: Углеводы
A5: Завтрак
A6: ='1-3 года'!A5 -> Кофейный напиток | B6: 180 | C6: 2.85 | D6: 2.41 | E6: 14.36 | F6: 91 | G6: 1.17 | H6: 395_2011
A7: ='1-3 года'!A6 -> Каша манная молочная (повидло) | B7: 210 | C7: 4.52 | D7: 4.07 | E7: 35.46 | F7: 197 | G7: 0 | H7: 181_2011
A8: ='1-3 года'!A7 -> Бутерброд с маслом | B8: 30 | C8: 2.3 | D8: 4.36 | E8: 14.62 | F8: 108 | G8: 0 | H8: 1_2011
A9: Второй завтрак
A10: ='1-3 года'!$A$9 -> Апельсин | B10: 100 | C10: 1.5 | D10: 0.5 | E10: 8 | F10: 95 | G10: 10 | H10: 368_2011
A11: Обед
A12: ='1-3 года'!A11 -> Борщ со свежей капустой | B12: ='1-3 года'!B11 -> 200 | C12: ='1-3 года'!C11 -> 4.7 | D12: ='1-3 года'!D11 -> 5.66 | E12: ='1-3 года'!E11 -> 10.12 | F12: ='1-3 года'!F11 -> 110.36 | G12: ='1-3 года'!G11 -> 6.76 | H12: ='1-3 года'!H11 -> НИИ гигиены
A13: ='1-3 года'!A12 -> Картофельное пюре с морковью | B13: 150 | C13: 3.83 | D13: 5.19 | E13: 26.04 | F13: 159.7 | G13: 27.77 | H13: 106
A14: ='1-3 года'!A13 -> Суфле куриное с рисом | B14: ='1-3 года'!B13 -> 80 | C14: ='1-3 года'!C13 -> 8.7 | D14: ='1-3 года'!D13 -> 6.5 | E14: ='1-3 года'!E13 -> 6.1 | F14: ='1-3 года'!F13 -> 118 | G14: ='1-3 года'!G13 -> 0 | H14: ='1-3 года'!H13 -> 36
A15: Соус белый основной | B15: 30 | C15: 0.18 | D15: 0.69 | E15: 1.1 | F15: 11.31 | G15: 0.08 | H15: 464
A16: Икра кабачковая | B16: 60 | C16: 0.54 | D16: 2.82 | E16: 3.55 | F16: 41.8 | G16: 3.31 | H16: 852
A17: ='1-3 года'!A16 -> Напиток из вишни | B17: 180 | C17: 0.19 | D17: 0.04 | E17: 16.21 | F17: 65.93 | G17: 15.12 | H17: 123_2007
A18: ='1-3 года'!A17 -> Хлеб заварной | B18: 40 | C18: 3.06 | D18: 9.43 | E18: 18.28 | F18: 170 | G18: 0 | H18: 1_2011/
A19: ='1-3 года'!A18 -> Хлеб пшеничный | B19: 25 | C19: 1.84 | D19: 4.25 | E19: 10.96 | F19: 102 | G19: 0 | H19: 1_2011/
A20: Полдник
A21: ='1-3 года'!A20 -> Варенец | B21: 200 | C21: 5.8 | D21: 5 | E21: 8.2 | F21: 106 | G21: 1.6 | H21: 530_2012
A22: ='1-3 года'!A21 -> Печенье овсяное | B22: 70 | C22: 5.25 | D22: 6.86 | E22: 52.08 | F22: 291.9 | G22: 0 | H22: 604_2012
A23: Ужин
A24: ='1-3 года'!A23 -> Каша перловая с овощами | B24: 210 | C24: 10.6 | D24: 9.11 | E24: 92.81 | F24: 236 | G24: 0.7 | H24: 96
A25: ='1-3 года'!A24 -> Напиток из шиповника | B25: 180 | C25: 0.61 | D25: 0.25 | E25: 18.67 | F25: 79 | G25: 90 | H25: 398_2011
A26: ='1-3 года'!A25 -> Хлеб пшеничный | B26: 30 | C26: 1.84 | D26: 4.25 | E26: 10.96 | F26: 102 | G26: 0 | H26: 1_2011/
A27: Итого за четвертый день: | C27: 68.75 | D27: 86.69 | E27: 266.04 | F27: 2061.27 | G27: 76.74

Sheet 1-3 года
A1: День четвертый
A2: Прием пищи/Наименование блюда | B2: Выход | C2: Пищевое вещество (г) | F2: Энергетическая ценность (ккал) | G2: Витамин С | H2: № рецептуры
C3: Белки | D3: Жиры | E3: Углеводы
A4: Завтрак
A5: Кофейный напиток | B5: 150 | C5: 2.36 | D5: 2 | E5: 11.92 | F5: 75.5 | G5: 0.97 | H5: 395_2011
A6: Каша манная молочная (повидло) | B6: 160 | C6: 3.4 | D6: 3.96 | E6: 27.83 | F6: 161 | G6: 0 | H6: 181_2011
A7: Бутерброд с маслом | B7: 20 | C7: 1.54 | D7: 3.46 | E7: 9.75 | F7: 78 | G7: 0 | H7: 1_2005
A8: Второй завтрак
A9: Апельсин | B9: 100 | C9: 1.5 | D9: 0.5 | E9: 8 | F9: 95 | G9: 10 | H9: 368_2011
A10: Обед
A11: Борщ со свежей капустой | B11: 200 | C11: 4.7 | D11: 5.66 | E11: 10.12 | F11: 110.36 | G11: 6.76 | H11: НИИ гигиены
A12: Картофельное пюре с морковью | B12: ='3-7 лет'!B13 -> 150 | C12: ='3-7 лет'!C13 -> 3.83 | D12: ='3-7 лет'!D13 -> 5.19 | E12: ='3-7 лет'!E13 -> 26.04 | F12: ='3-7 лет'!F13 -> 159.7 | G12: ='3-7 лет'!G13 -> 27.77 | H12: ='3-7 лет'!H13 -> 106
A13: Суфле куриное с рисом | B13: 80 | C13: 8.7 | D13: 6.5 | E13: 6.1 | F13: 118 | G13: 0 | H13: 36
A14: Соус белый основной | B14: ='3-7 лет'!B15 -> 30 | C14: ='3-7 лет'!C15 -> 0.18 | D14: ='3-7 лет'!D15 -> 0.69 | E14: ='3-7 лет'!E15 -> 1.1 | F14: ='3-7 лет'!F15 -> 11.31 | G14: ='3-7 лет'!G15 -> 0.08 | H14: ='3-7 лет'!H15 -> 464
A15: Икра кабачковая | B15: ='3-7 лет'!B16 -> 60 | C15: ='3-7 лет'!C16 -> 0.54 | D15: ='3-7 лет'!D16 -> 2.82 | E15: ='3-7 лет'!E16 -> 3.55 | F15: ='3-7 лет'!F16 -> 41.8 | G15: ='3-7 лет'!G16 -> 3.31 | H15: ='3-7 лет'!H16 -> 852
A16: Напиток из вишни | B16: 150 | C16: 0.158 | D16: 0.033 | E16: 13.508 | F16: 54.942 | G16: 12.6 | H16: 123_2007
A17: Хлеб заварной | B17: 40 | C17: 2.45 | D17: 7.54 | E17: 14.62 | F17: 136 | G17: 0 | H17: 1_2011/
A18: Хлеб пшеничный | B18: 25 | C18: 1.53 | D18: 4.71 | E18: 9.14 | F18: 85 | G18: 0 | H18: 1_2011/
A19: Полдник
A20: Варенец | B20: 180 | C20: 5.22 | D20: 4.5 | E20: 7.38 | F20: 95.4 | G20: 1.44 | H20: 530_2012
A21: Печенье овсяное | B21: 50 | C21: 3.75 | D21: 4.9 | E21: 37.2 | F21: 208.5 | G21: 0 | H21: 604_2012
A22: Ужин
A23: Каша перловая с овощами | B23: 150 | C23: ='3-7 лет'!C24 -> 10.6 | D23: ='3-7 лет'!D24 -> 9.11 | E23: ='3-7 лет'!E24 -> 92.81 | F23: ='3-7 лет'!F24 -> 236 | G23: ='3-7 лет'!G24 -> 0.7 | H23: ='3-7 лет'!H24 -> 96
A24: Напиток из шиповника | B24: 150 | C24: 0.51 | D24: 0.21 | E24: 15.5 | F24: 65.57 | G24: 74.7 | H24: 398_2011
A25: Хлеб пшеничный | B25: 25 | C25: 1.53 | D25: 4.71 | E25: 9.14 | F25: 85 | G25: 0 | H25: 1_2011/
A26: Итого за четвертый день: | C26: 60.04 | D26: 79.96 | E26: 225.06 | F26: 1567.18 | G26: 73.11
